BEGIN:VCALENDAR
VERSION:2.0
PRODID:-//eventon.com NONSGML v1.0//EN
CALSCALE:GREGORIAN
METHOD:PUBLISH
BEGIN:VEVENT
UID:69eced369fb82
DTSTAMP:20260425T163502Z
DTSTART:20231020T170000Z
DTEND:20231023T010000Z
LOCATION:The Evergreen State Fairgrounds Event Center 14405 179th Avenue SE
SUMMARY:Washington State Evergreen Fall Home Show
DESCRIPTION:Washington State Evergreen Fall Home Show\nhttps://wp.ihoctest.
 com/events/washington-state-evergreen-fall-home-show/
URL:https://wp.ihoctest.com/events/washington-state-evergreen-fall-home-show/
END:VEVENT
END:VCALENDAR